BEGIN:VCALENDAR
VERSION:2.0
PRODID:-//Tukios.com/
BEGIN:VEVENT
UID:faaf4005-6240-4bf4-9afd-93338559ecdd@www.meyersfh.com
DTSTAMP:20260423T125120Z
DTSTART:20260504T150000Z
DTEND:20260504T160000Z
SUMMARY:Mass
DESCRIPTION:
URL:https://www.meyersfh.com/obituaries/diane-marie-ficca
LOCATION: 333 Allendale Road  King of Prussia PA 19406
GEO:40.0936019;-75.3887252
END:VEVENT
END:VCALENDAR