BEGIN:VCALENDAR
VERSION:2.0
PRODID:-//Tukios.com/
BEGIN:VEVENT
UID:30f88c93-426e-4637-a132-866b33eed260@www.meyersfh.com
DTSTAMP:20260423T124934Z
DTSTART:20260427T150000Z
DTEND:20260427T160000Z
SUMMARY:Viewing
DESCRIPTION:
URL:https://www.meyersfh.com/obituaries/frank-napolitano-jr
LOCATION:The Bacchi Funeral Home & Crematory 805 DeKalb Street  
	Bridgeport PA 19405
GEO:40.1024156;-75.3483233
END:VEVENT
END:VCALENDAR