BEGIN:VCALENDAR
VERSION:2.0
PRODID:-//Tukios.com/
BEGIN:VEVENT
UID:667613ec-c809-4787-8928-1775d3cca3ee@www.meyersfh.com
DTSTAMP:20260423T125423Z
DTSTART:20260427T160000Z
DTEND:20260427T170000Z
SUMMARY:Funeral Service
DESCRIPTION:
URL:https://www.meyersfh.com/obituaries/frank-napolitano-jr
LOCATION:The Bacchi Funeral Home & Crematory 805 DeKalb Street  
	Bridgeport PA 19405
GEO:40.1024156;-75.3483233
END:VEVENT
END:VCALENDAR