BEGIN:VCALENDAR
VERSION:2.0
PRODID:-//Tukios.com/
BEGIN:VEVENT
UID:fd018f3c-3d4b-442e-af5d-52946d6da5ab@www.meyersfh.com
DTSTAMP:20260424T204118Z
DTSTART:20260506T140000Z
DTEND:20260506T150000Z
SUMMARY:Visitation
DESCRIPTION:
URL:https://www.meyersfh.com/obituaries/jill-mccarthy
LOCATION: 1770 Brown Ave  Eddington PA 19020
GEO:40.0929492;-74.9467134
END:VEVENT
END:VCALENDAR