BEGIN:VCALENDAR
VERSION:2.0
PRODID:-//Tukios.com/
BEGIN:VEVENT
UID:8489fecd-5d2c-409d-8c01-910b7f196b0e@www.meyersfh.com
DTSTAMP:20260423T131525Z
DTSTART:20260425T130000Z
DTEND:20260425T142000Z
SUMMARY:Viewing
DESCRIPTION:
URL:https://www.meyersfh.com/obituaries/john-maslayak
LOCATION:Saints Peter & Paul Ukrainian Catholic Church 519 Union Avenue  
	Bridgeport PA 19405
GEO:40.1005364;-75.3396532
END:VEVENT
END:VCALENDAR