BEGIN:VCALENDAR
VERSION:2.0
PRODID:-//Tukios.com/
BEGIN:VEVENT
UID:031d2b25-3632-4b9f-b7a6-45d0a1b05732@www.meyersfh.com
DTSTAMP:20260421T025205Z
DTSTART:20260427T133000Z
DTEND:20260427T141500Z
SUMMARY:Viewing
DESCRIPTION:
URL:https://www.meyersfh.com/obituaries/martha-smoczylo
LOCATION:Sacred Heart Church 120 Jefferson Street  Bridgeport PA 19405
GEO:40.1026149;-75.330682
END:VEVENT
END:VCALENDAR