BEGIN:VCALENDAR
VERSION:2.0
PRODID:-//Tukios.com/
BEGIN:VEVENT
UID:bbcd00db-1f15-45c5-97b5-d581871b715c@www.meyersfh.com
DTSTAMP:20260421T025522Z
DTSTART:20260427T143000Z
DTEND:20260427T153000Z
SUMMARY:Funeral Service
DESCRIPTION:
URL:https://www.meyersfh.com/obituaries/martha-smoczylo
LOCATION:Sacred Heart Church 120 Jefferson Street  Bridgeport PA 19405
GEO:40.1026149;-75.330682
END:VEVENT
END:VCALENDAR