BEGIN:VCALENDAR
VERSION:2.0
PRODID:-//Tukios.com/
BEGIN:VEVENT
UID:a89ab46c-7a12-4619-990d-f8d152c06b38@www.meyersfh.com
DTSTAMP:20260421T025633Z
DTSTART:20260427T154500Z
DTEND:20260427T160000Z
SUMMARY:Graveside Service
DESCRIPTION:
URL:https://www.meyersfh.com/obituaries/martha-smoczylo
LOCATION:Saints Peter & Paul Ukrainian Catholic Cemetery Church Rd.  King 
	of Prussia PA 19406
GEO:40.0870935;-75.3523265
END:VEVENT
END:VCALENDAR